Workbook

Sheet davor
A1: Name der Veranstaltung
A3: Einstiegsfragen: Vom Ergebnis her denken
A5: Was möchten wir mit diesem Treffen erreichen? Soll informiert, ausgetauscht, gelernt, entschieden, gesteuert, geplant, entwickelt, gefeiert,... werden?
A7: Wer sind (folglich) die Teilnehmenden? Wie wichtig ist die Verbindlichkeit der Teilnahme? Kennen sie sich? Auf was ist in der Gruppendynamik zu achten?
A9: Was ist unsere Rolle in dem Treffen?
A11: Wie lässt sich die Perspektive der "eigentlichen" Zielgruppe einbeziehen?
A14: Wirkungsorientierte Ziele - Was ist nach dem Treffen anders als zuvor?
A16: TN werden erreicht. Hilfsfrage: Wie stellen wir sicher, dass wir die Teilnehmenden wirklich erreichen?
A19: TN akzeptieren Angebot. Hilfsfrage: Was braucht es, damit die Menschen so zufrieden sind, dass sie das Angebot weiterempfehlen?
A21: TN wissen mehr über… Hilfsfrage: Welche Fähigkeiten/Wissen/Bewusstsein/Einstellung sollen die Menschen erlangen?
A23: TN ändern ihr Handeln Hilfsfrage: Was ändert sich für die Menschen in ihrem Alltag, im Denken, Fühlen, Handeln?
A25: Verbesserte Angebote, integriertes Arbeiten, ressortübergreifende Zusammenarbeit entwickeln sich. Hilfsfrage: Wie verändert sich die Arbeit auf kultureller und struktureller Ebene?

Sheet davor - Checkliste
A1: Checkliste | C1: Dieses Blatt können wir als Notizzettel nutzen, für ToDos, für Packlisten, …
A3: An was müssen wir denken?

Sheet dabei
A2: Ablaufplan
A4: Slot | B4: Zeit Beginn | C4: Zeit Ende | D4: Dauer (h) | E4: Ziel | F4: Inhalt | G4: Methode | H4: Wer macht es? | I4: Materialien | J4: Bemerkung
A5: 1 | B5: 0.35416667 | C5: =B5+D5 -> 0.375 | D5: 0.020833333 | F5: Ankommen im Raum, einrichten,…
A6: 2 | B6: =C5 -> 0.375 | C6: =B6+D6 -> 0.38194444 | D6: 0.0069444444 | E6: Ankommen und den Ton/die Stimmung setzen, Orientierung im Tagesablauf
A7: 3 | B7: =C6 -> 0.38194444 | C7: =B7+D7 -> 0.39236111 | D7: 0.010416667
A8: 4 | B8: =C7 -> 0.39236111 | C8: =B8+D8 -> 0.41666667 | D8: 0.024305556
A9: 5 | B9: =C8 -> 0.41666667 | C9: =B9+D9 -> 0.42708333 | D9: 0.010416667 | F9: Pause
A10: 6 | B10: =C9 -> 0.42708333 | C10: =B10+D10 -> 0.44791667 | D10: 0.020833333
A11: 7 | B11: =C10 -> 0.44791667 | C11: =B11+D11 -> 0.51041667 | D11: 0.0625
A12: 8 | B12: =C11 -> 0.51041667 | C12: =B12+D12 -> 0.54166667 | D12: 0.03125 | F12: Mittagspause
A13: 9 | B13: =C12 -> 0.54166667 | C13: =B13+D13 -> 0.5625 | D13: 0.020833333 | E13: Warm-Up | F13: Wiederankommen nach der Pause
A14: 10 | B14: =C13 -> 0.5625 | C14: =B14+D14 -> 0.59375 | D14: 0.03125
A15: 11 | B15: =C14 -> 0.59375 | C15: =B15+D15 -> 0.60069444 | D15: 0.0069444444 | F15: Check-out: Wie gehen Sie jetzt hier raus? Ausklang und Verabschiedung

Sheet danach
A1: Wirkungsorientierte Reflexion
C2: Was hatten wir geplant?
A3: Ein Rückblick auf die Ziele des Treffens
A5: War der Teilnehmendenkreis so wie erwartet? Welche unserer geplanten Ziele haben wir erreicht? Welche nicht und aus welchen Gründen? Was haben wir von den Teilnehmenden an Rückmeldungen erfahren? Waren unsere Ziele auch die der Teilnehmenden? Wie gehen wir mit möglichen Unterschieden um? | C5: =davor!B5 -> 0
A7: Inhalte, Ablauf und Methoden
A9: War der geplante Ablauf passend und konnte so umgesetzt werden? Was war gut, was nicht und warum?
A11: Organisation
A13: Wie haben wir die Organisation des Treffens wahrgenommen? (Zeitplan, Raum, Aufgabenverteilung…)? Was war gut, was nicht und warum?
A15: Gruppendynamik und Atmosphäre - Macht und Vertraulichkeit
A17: Was war in Bezug auf die Gruppendynamik unter den Teilnehmenden zu beobachten? Wie waren Stimmung und Atmosphäre? Haben wir Widerstände, Ängste oder Unsicherheiten erlebt? Wie ging es uns? | C17: =davor!B7 -> 0
A19: Welche Beobachtungen haben wir in Bezug auf Macht und Hierarchie unter den Teilnehmenden gemacht? Wie sind wir damit umgegangen? Welche Rolle hat Vertraulichkeit gespielt? Wie offen konnten sich die Teilnehmenden wohl zeigen?
A21: Unsere Rolle
A23: Wie war es mit unserer Rolle? Haben wir bei uns Rollenkonflikte verspürt? Wie sind wir damit umgegangen? Was können wir ggf. ändern? | C23: =davor!B9 -> 0
A25: Perspektive der "eigentlichen" Zielgruppe
A27: Wie ist es gelungen, die Perspektive der "eigentlichen" Zielgruppe einzubeziehen? Wie wurde das Thema Chancengleichheit behandelt? | C27: =davor!B11 -> 0
A29: Rück- und Ausblick
A31: Was hat sich unserer Ansicht nach durch das Treffen verändert? Welche Erkenntnisse nehmen wir mit? Was haben wir verstanden? Welche Hypothesen haben wir? Sind neue Themen oder Aspekte aufgetaucht? Wie machen wir damit weiter? | C31: =davor!B21 -> 0
